BEGIN:VCALENDAR
VERSION:2.0
PRODID:-//eventon.com NONSGML v1.0//EN
CALSCALE:GREGORIAN
METHOD:PUBLISH
BEGIN:VEVENT
UID:69e8b8a4e3bf2
DTSTAMP:20260422T120140Z
DTSTART:20260510T010000Z
DTEND:20260510T090000Z
LOCATION:
SUMMARY:UFC 328
DESCRIPTION:UFC 328 live at Condor Club Two title fights in one night! Kham
 zat Chimaev defends his Middleweight Title against Sean Strickland\,  and J
 oshua Van defends his Flyweight Title against Tatsuro streaming LIVE\,  Sat
 urday\,  May 9th. Reserve your table\,  grab your crew\,  and settle in for
  the biggest night of the[..]\nhttps://condorsf.com/events/ufc-328/
URL:https://condorsf.com/events/ufc-328/
END:VEVENT
END:VCALENDAR